BEGIN:VCALENDAR
VERSION:2.0
PRODID:-//Ceramics of Italy - ECPv6.15.20//NONSGML v1.0//EN
CALSCALE:GREGORIAN
METHOD:PUBLISH
X-WR-CALNAME:Ceramics of Italy
X-ORIGINAL-URL:https://ceramicsofitaly.ams100.de
X-WR-CALDESC:Veranstaltungen für Ceramics of Italy
REFRESH-INTERVAL;VALUE=DURATION:PT1H
X-Robots-Tag:noindex
X-PUBLISHED-TTL:PT1H
BEGIN:VTIMEZONE
TZID:Europe/Berlin
BEGIN:DAYLIGHT
TZOFFSETFROM:+0100
TZOFFSETTO:+0200
TZNAME:CEST
DTSTART:20250330T010000
END:DAYLIGHT
BEGIN:STANDARD
TZOFFSETFROM:+0200
TZOFFSETTO:+0100
TZNAME:CET
DTSTART:20251026T010000
END:STANDARD
BEGIN:DAYLIGHT
TZOFFSETFROM:+0100
TZOFFSETTO:+0200
TZNAME:CEST
DTSTART:20260329T010000
END:DAYLIGHT
BEGIN:STANDARD
TZOFFSETFROM:+0200
TZOFFSETTO:+0100
TZNAME:CET
DTSTART:20261025T010000
END:STANDARD
BEGIN:DAYLIGHT
TZOFFSETFROM:+0100
TZOFFSETTO:+0200
TZNAME:CEST
DTSTART:20270328T010000
END:DAYLIGHT
BEGIN:STANDARD
TZOFFSETFROM:+0200
TZOFFSETTO:+0100
TZNAME:CET
DTSTART:20271031T010000
END:STANDARD
END:VTIMEZONE
BEGIN:VEVENT
DTSTART;TZID=Europe/Berlin:20260625T154500
DTEND;TZID=Europe/Berlin:20260625T203000
DTSTAMP:20260424T225530
CREATED:20260313T132612Z
LAST-MODIFIED:20260423T081404Z
UID:1186-1782402300-1782419400@ceramicsofitaly.ams100.de
SUMMARY:Ceramics of Italy - Im Wizemann\, Stuttgart
DESCRIPTION:Ceramics of Italy – Im Wizemann\, Stuttgart\n\n15:45 Uhr – 17:00 Uhr\n\nAkkreditierung & Führung in Kleingruppen durch die Ausstellung\nZu Beginn der Veranstaltung führen wir Sie in Kleingruppen durch eine vielfältige Ausstellung von hochleistungsfähigen italienischen Fliesen in der Architektur. Die kurze Führung bietet Einblicke in die Technologien und Effizienzmerkmale der Produkte und ermöglicht es Ihnen\, inspirierende Lösungen für Ihre architektonischen Projekte zu entdecken. \n\n17:15 Uhr – 17:30 Uhr  \n\nBegrüßung durch Edi.Cer. Spa\nDie keramische Industrie Italiens vereint fundierte Fachkompetenz\, verantwortungsbewusstes Handeln und hochentwickelte Technik mit einem ausgeprägten Sinn für Ästhetik. Umweltbewusstes Wirtschaften ist längst zu einem zentralen Leitprinzip geworden. Als Ceramics of Italy machen wir diese Entwicklung durch vielfältige Publikationen und Analysen sichtbar und zeigen\, wie sich Innovation und Nachhaltigkeit in der Branche kontinuierlich weiterentwickeln. \n\n17:30 Uhr – 18:30 Uhr \n\nPeter Ippolito | Ippolito Fleitz Group – Identity Architects\nDeep Skin\nOberflächen und Materialien sind wichtige Bestandteile guter Architektur und Innenarchitektur. Als gestalterisches Element verleihen sie Gebäuden und Räumen ihre unverwechselbare Identität. Mit ihren funktionalen Eigenschaften sorgen sie für Atmosphäre und gutes Raumklima – sei es als schattenspendende Fassade\, als akustisch wirksame Wand-\, Boden- und Deckenelemente oder als reinigungsfähige Oberfläche\, die in der Gastronomie die nötige Hygiene garantiert. Dazu sind sie für die Nutzenden sinnlich-haptisch erfahrbar\, eine wichtige emotionale Komponente in unserer zunehmend digitalen Welt. Mit der Sehnsucht nach Natur und Nahbarkeit geht auch der Wunsch nach nachhaltigen Materialien einher\, die eine immer größer Rolle spielen. \n\n18:30 Uhr – 19:00 Uhr\n\n\nEntdecken Sie die Vielfalt: Ausstellung und Gespräche mit den Ausstellern\nDer Besuch der Ausstellung ermöglicht Ihnen einen direkten Austausch mit Experten\, was ideal ist für fundierte Entscheidungen und Einblicke in zukünftige Entwicklungen im Bereich hochwertiger italienischer Keramik.\n \n\n19:00 Uhr – 20:30 Uhr\n\nSerata Italiana & Kulinarik & Musica\nAls krönender Abschluss wird der Gewinner der All-inklusive Reise zur “Cersaie Bologna 2026” verkündet. Nutzen Sie anschließend die Gelegenheit\, sich mit Branchenexperten und Gleichgesinnten auszutauschen und wertvolle Kontakte zu knüpfen. Unser Networking bietet Ihnen die ideale Plattform\, um Ihr Netzwerk zu erweitern und neue Geschäftsmöglichkeiten zu entdecken. Genießen Sie den Ausklang der Veranstaltung mit Musikuntermalung. \n\njetzt anmelden
URL:https://ceramicsofitaly.ams100.de/event/ceramics-of-italy-2026-im-wizemann-stuttgart/
LOCATION:Im Wizemann\, Quellenstraße 7\, Stuttgart\, 70376\, Germany
ATTACH;FMTTYPE=image/jpeg:https://ceramicsofitaly.ams100.de/wp-content/uploads/2026/03/expo2025_logo_00096-1.jpg
ORGANIZER;CN="ams100 Consulting":MAILTO:info@ams100.de
END:VEVENT
END:VCALENDAR